BEGIN:VCALENDAR
VERSION:2.0
PRODID:-//Kulturvereinigung Heidenrod e.V. - ECPv6.15.20//NONSGML v1.0//EN
CALSCALE:GREGORIAN
METHOD:PUBLISH
X-WR-CALNAME:Kulturvereinigung Heidenrod e.V.
X-ORIGINAL-URL:https://kv-heidenrod.de
X-WR-CALDESC:Veranstaltungen für Kulturvereinigung Heidenrod e.V.
REFRESH-INTERVAL;VALUE=DURATION:PT1H
X-Robots-Tag:noindex
X-PUBLISHED-TTL:PT1H
BEGIN:VTIMEZONE
TZID:Europe/Berlin
BEGIN:DAYLIGHT
TZOFFSETFROM:+0100
TZOFFSETTO:+0200
TZNAME:CEST
DTSTART:20250330T010000
END:DAYLIGHT
BEGIN:STANDARD
TZOFFSETFROM:+0200
TZOFFSETTO:+0100
TZNAME:CET
DTSTART:20251026T010000
END:STANDARD
BEGIN:DAYLIGHT
TZOFFSETFROM:+0100
TZOFFSETTO:+0200
TZNAME:CEST
DTSTART:20260329T010000
END:DAYLIGHT
BEGIN:STANDARD
TZOFFSETFROM:+0200
TZOFFSETTO:+0100
TZNAME:CET
DTSTART:20261025T010000
END:STANDARD
BEGIN:DAYLIGHT
TZOFFSETFROM:+0100
TZOFFSETTO:+0200
TZNAME:CEST
DTSTART:20270328T010000
END:DAYLIGHT
BEGIN:STANDARD
TZOFFSETFROM:+0200
TZOFFSETTO:+0100
TZNAME:CET
DTSTART:20271031T010000
END:STANDARD
END:VTIMEZONE
BEGIN:VEVENT
DTSTART;TZID=Europe/Berlin:20260508T200000
DTEND;TZID=Europe/Berlin:20260508T223000
DTSTAMP:20260420T133444
CREATED:20260223T140940Z
LAST-MODIFIED:20260420T103758Z
UID:3376-1778270400-1778279400@kv-heidenrod.de
SUMMARY:Die Taunusbühne zu Gast in Heidenrod mit „Fast Faust“ - ein heiteres Stück für Jung und Alt
DESCRIPTION:Titelbild/Plakat © Taunusbühne \nKommen Sie in die Wisperhalle nach Heidenrod-Dickschied\nam Freitag\, den 8. Mai 2026 um 20:00! Einlass 19:15 \nDer Faust ist von Goethe\, das ist allgemein bekannt\, – ein Stück mit 57 Rollen. Doch in Zeiten der Sparmaßnahmen muss man auch mit weniger auskommen. Die Taunusbühne bringt 2026 das große Stück von Albert Frank mit kleinem Bühnenbild\, wenig Technik und Riesenleidenschaft zu zweit zur Aufführung. Vor dem Hintergrund der sehr anspruchsvollen Vorlage entsteht in der Wisperhalle eine temporeiche und spritzige Komödie\, in der Goethes Texte immer wieder eingeblendet werden und hervortreten. Der stete Wechsel zwischen Goethes Versen und dem realen Schauspiel wird geistreich verarbeitet und die beiden Schauspieler Jannick Müller und Uwe Hangen meistern dies mit Bravour. Die beiden „Möchtegern-Schauspieler“ schlittern dabei von einem Höhepunkt zum Nächsten\, bringen jedoch in 90 Minuten das eigentliche Dreistundenwerk zur Aufführung: Ein Stück zwischen Klassik und Komik und ein Heidenspaß für Jugendliche wie Erwachsene\, das dem geschätzten Publikum die Faust Geschichte wieder nahebringt. Die Regie führen Marianne Thiel und Michael Klatte. \n \nDer Eintritt beträgt 15\,00 € (12€ Mitglieder der KVH). Kinder und Jugendliche haben freien Eintritt. Die Veranstaltung findet in Kooperation mit der Freiwilligen Feuerwehr Dickschied statt\, die auch die Versorgung mit Speis‘ und Trank in der Pause sicherstellt. \n  \n\nVeranstaltungstechnik: Gefördert durch die Bundesrepublik Deutschland und das Land Hessen im Rahmen der Gemeinschaftsaufgabe „Verbesserung der Agrarstruktur“ \nSpenden für unsere Veranstaltungen sind möglich und erwünscht durch Überweisung \nauf unser Konto bei der NASPA: IBAN: DE03510500150393196505 BIC:  NASSDE55XXX \noder mittels Spendenlink auf unser PayPal- Konto. \n 
URL:https://kv-heidenrod.de/veranstaltung/die-taunusbuehne-zu-gast-in-heidenrod-mit-fast-faust-ein-heiteres-stueck-fuer-jung-und-alt/
LOCATION:Wisperhalle Dickschied\, Am Dorfgemeinschaftshaus 1\, Heidenrod-Dickschied\, Hessen\, 65321\, Deutschland
CATEGORIES:Theater
ATTACH;FMTTYPE=image/jpeg:https://kv-heidenrod.de/wp-content/uploads/2026/02/Titelbild-Webseite-Taunusbuehne.jpg
ORGANIZER;CN="Kulturvereinigung Heidenrod":MAILTO:info@kv-heidenrod.de
END:VEVENT
END:VCALENDAR